BEGIN:VCALENDAR
VERSION:2.0
CALSCALE:GREGORIAN
PRODID:adamgibbons/ics
METHOD:PUBLISH
X-PUBLISHED-TTL:PT1H
BEGIN:VEVENT
UID:2153@gancio.graz.events
SUMMARY:Kleine Zeitung Bandcontest – CORE&MORE-Edition
DTSTAMP:20260425T155155Z
DTSTART:20260513T160000Z
URL:https://gancio.graz.events/event/kleine-zeitung-bandcontest-coreandmore
	-edition
GEO:47.0723099;15.429964
LOCATION:Orpheum Graz - 8\, Orpheumgasse\, Annenviertel\, Lend\, Graz\, Ste
	iermark\, 8020\, Österreich
STATUS:CONFIRMED
CATEGORIES:Konzert,Live Konzert
END:VEVENT
END:VCALENDAR
