BEGIN:VCALENDAR
VERSION:2.0
CALSCALE:GREGORIAN
PRODID:adamgibbons/ics
METHOD:PUBLISH
X-PUBLISHED-TTL:PT1H
BEGIN:VEVENT
UID:2103@gancio.graz.events
SUMMARY:queerfeministische Fahrradküche / queerfeminist bike kitchen
DTSTAMP:20260423T234322Z
DTSTART:20260429T160000Z
DTEND:20260429T190000Z
URL:https://gancio.graz.events/event/queerfeministische-fahrradkuche-queerf
	eminist-bike-kitchen-3
GEO:47.063747;15.44226
LOCATION:Fahrradküche - 40\, Schießstattgasse\, Jakominivorstadt\, Katastra
	lgemeinde Jakomini\, Jakomini\, Graz\, Steiermark\, 8010\, Österreich
STATUS:CONFIRMED
CATEGORIES:
END:VEVENT
BEGIN:VEVENT
UID:2104@gancio.graz.events
SUMMARY:queerfeministische Fahrradküche / queerfeminist bike kitchen
DTSTAMP:20260423T234322Z
DTSTART:20260527T160000Z
DTEND:20260527T190000Z
URL:https://gancio.graz.events/event/queerfeministische-fahrradkuche-queerf
	eminist-bike-kitchen-4
GEO:47.063747;15.44226
LOCATION:Fahrradküche - 40\, Schießstattgasse\, Jakominivorstadt\, Katastra
	lgemeinde Jakomini\, Jakomini\, Graz\, Steiermark\, 8010\, Österreich
STATUS:CONFIRMED
CATEGORIES:
END:VEVENT
BEGIN:VEVENT
UID:2105@gancio.graz.events
SUMMARY:queerfeministische Fahrradküche / queerfeminist bike kitchen
DTSTAMP:20260423T234322Z
DTSTART:20260624T160000Z
DTEND:20260624T190000Z
URL:https://gancio.graz.events/event/queerfeministische-fahrradkuche-queerf
	eminist-bike-kitchen-5
GEO:47.063747;15.44226
LOCATION:Fahrradküche - 40\, Schießstattgasse\, Jakominivorstadt\, Katastra
	lgemeinde Jakomini\, Jakomini\, Graz\, Steiermark\, 8010\, Österreich
STATUS:CONFIRMED
CATEGORIES:
END:VEVENT
BEGIN:VEVENT
UID:2106@gancio.graz.events
SUMMARY:queerfeministische Fahrradküche / queerfeminist bike kitchen
DTSTAMP:20260423T234322Z
DTSTART:20260729T160000Z
DTEND:20260729T190000Z
URL:https://gancio.graz.events/event/queerfeministische-fahrradkuche-queerf
	eminist-bike-kitchen-6
GEO:47.063747;15.44226
LOCATION:Fahrradküche - 40\, Schießstattgasse\, Jakominivorstadt\, Katastra
	lgemeinde Jakomini\, Jakomini\, Graz\, Steiermark\, 8010\, Österreich
STATUS:CONFIRMED
CATEGORIES:
END:VEVENT
BEGIN:VEVENT
UID:2107@gancio.graz.events
SUMMARY:queerfeministische Fahrradküche / queerfeminist bike kitchen
DTSTAMP:20260423T234322Z
DTSTART:20260826T160000Z
DTEND:20260826T190000Z
URL:https://gancio.graz.events/event/queerfeministische-fahrradkuche-queerf
	eminist-bike-kitchen-7
GEO:47.063747;15.44226
LOCATION:Fahrradküche - 40\, Schießstattgasse\, Jakominivorstadt\, Katastra
	lgemeinde Jakomini\, Jakomini\, Graz\, Steiermark\, 8010\, Österreich
STATUS:CONFIRMED
CATEGORIES:
END:VEVENT
BEGIN:VEVENT
UID:2108@gancio.graz.events
SUMMARY:queerfeministische Fahrradküche / queerfeminist bike kitchen
DTSTAMP:20260423T234322Z
DTSTART:20260930T160000Z
DTEND:20260930T190000Z
URL:https://gancio.graz.events/event/queerfeministische-fahrradkuche-queerf
	eminist-bike-kitchen-8
GEO:47.063747;15.44226
LOCATION:Fahrradküche - 40\, Schießstattgasse\, Jakominivorstadt\, Katastra
	lgemeinde Jakomini\, Jakomini\, Graz\, Steiermark\, 8010\, Österreich
STATUS:CONFIRMED
CATEGORIES:
END:VEVENT
BEGIN:VEVENT
UID:2109@gancio.graz.events
SUMMARY:queerfeministische Fahrradküche / queerfeminist bike kitchen
DTSTAMP:20260423T234322Z
DTSTART:20261028T170000Z
DTEND:20261028T200000Z
URL:https://gancio.graz.events/event/queerfeministische-fahrradkuche-queerf
	eminist-bike-kitchen-9
GEO:47.063747;15.44226
LOCATION:Fahrradküche - 40\, Schießstattgasse\, Jakominivorstadt\, Katastra
	lgemeinde Jakomini\, Jakomini\, Graz\, Steiermark\, 8010\, Österreich
STATUS:CONFIRMED
CATEGORIES:
END:VEVENT
BEGIN:VEVENT
UID:2110@gancio.graz.events
SUMMARY:queerfeministische Fahrradküche / queerfeminist bike kitchen
DTSTAMP:20260423T234322Z
DTSTART:20261125T170000Z
DTEND:20261125T200000Z
URL:https://gancio.graz.events/event/queerfeministische-fahrradkuche-queerf
	eminist-bike-kitchen-10
GEO:47.063747;15.44226
LOCATION:Fahrradküche - 40\, Schießstattgasse\, Jakominivorstadt\, Katastra
	lgemeinde Jakomini\, Jakomini\, Graz\, Steiermark\, 8010\, Österreich
STATUS:CONFIRMED
CATEGORIES:
END:VEVENT
BEGIN:VEVENT
UID:2111@gancio.graz.events
SUMMARY:queerfeministische Fahrradküche / queerfeminist bike kitchen
DTSTAMP:20260423T234322Z
DTSTART:20261230T170000Z
DTEND:20261230T200000Z
URL:https://gancio.graz.events/event/queerfeministische-fahrradkuche-queerf
	eminist-bike-kitchen-11
GEO:47.063747;15.44226
LOCATION:Fahrradküche - 40\, Schießstattgasse\, Jakominivorstadt\, Katastra
	lgemeinde Jakomini\, Jakomini\, Graz\, Steiermark\, 8010\, Österreich
STATUS:CONFIRMED
CATEGORIES:
END:VEVENT
END:VCALENDAR
