BEGIN:VCALENDAR
VERSION:2.0
CALSCALE:GREGORIAN
PRODID:adamgibbons/ics
METHOD:PUBLISH
X-PUBLISHED-TTL:PT1H
BEGIN:VEVENT
UID:2154@gancio.graz.events
SUMMARY:Musik aus Herr der Ringe. Gespielt vom Mystery Ensemble
DTSTAMP:20260421T145033Z
DTSTART:20260509T180000Z
DTEND:20260509T190000Z
URL:https://gancio.graz.events/event/musik-aus-herr-der-ringe-gespielt-vom-
	mystery-ensemble
LOCATION:Congress Graz\, Kammermusiksaal - Congress Graz\, Kammermusiksaal\
	, Sparkassenplatz 3\, 8010 Graz\, Österreich
STATUS:CONFIRMED
CATEGORIES:
END:VEVENT
END:VCALENDAR
