BEGIN:VCALENDAR
VERSION:2.0
CALSCALE:GREGORIAN
PRODID:adamgibbons/ics
METHOD:PUBLISH
X-PUBLISHED-TTL:PT1H
BEGIN:VEVENT
UID:2119@gancio.graz.events
SUMMARY:Internationales Roséweinfestival Steiermark Graz 2026
DTSTAMP:20260424T042719Z
DTSTART:20260612T130000Z
DTEND:20260612T190000Z
URL:https://gancio.graz.events/event/internationales-roseweinfestival-steie
	rmark-graz-2026
GEO:47.0686945;15.4442598
LOCATION:Club Circle Thalia - 5a\, Opernring\, Innere Stadt\, Graz\, Steier
	mark\, 8010\, Österreich
STATUS:CONFIRMED
CATEGORIES:Freitag
END:VEVENT
END:VCALENDAR
