BEGIN:VCALENDAR
VERSION:2.0
CALSCALE:GREGORIAN
PRODID:adamgibbons/ics
METHOD:PUBLISH
X-PUBLISHED-TTL:PT1H
BEGIN:VEVENT
UID:1433@gancio.graz.events
SUMMARY:CSD Graz 2026
DTSTAMP:20260424T040123Z
DTSTART:20260627T100000Z
DTEND:20260627T200000Z
URL:https://gancio.graz.events/event/csd-graz-2026
LOCATION:tba - tba
STATUS:CONFIRMED
CATEGORIES:CSD,graz,LGBTQI,Samstag
END:VEVENT
END:VCALENDAR
