BEGIN:VCALENDAR
VERSION:2.0
CALSCALE:GREGORIAN
PRODID:adamgibbons/ics
METHOD:PUBLISH
X-PUBLISHED-TTL:PT1H
BEGIN:VEVENT
UID:2149@gancio.graz.events
SUMMARY:EUSONICS - PUBLIC AFFAIRS Vol. 2
DTSTAMP:20260423T150544Z
DTSTART:20260424T170000Z
DTEND:20260424T210000Z
URL:https://gancio.graz.events/event/eusonics-public-affairs-vol-2
GEO:47.0604671;15.455447
LOCATION:Mo.xx - mo.xx\, 34\, Moserhofgasse\, Münzgraben\, Jakomini\, Graz\
	, Steiermark\, 8010\, Österreich
STATUS:CONFIRMED
CATEGORIES:Freitag,Konzert,Live Konzert,Party,Pop,Rock
END:VEVENT
END:VCALENDAR
